BEGIN:VCALENDAR
VERSION:2.0
PRODID:-//Plone.org//NONSGML plone.app.event//EN
X-WR-TIMEZONE:Europe/Berlin
BEGIN:VEVENT
SUMMARY:Intro to Working on HPC Clusters - 2nd course (Winter 2025-26)
DTSTART;VALUE=DATE:20260114
DTEND;VALUE=DATE:20260116
DTSTAMP:20260422T122936Z
UID:66222104cbc54adf95d21c5d01bdc7c7@www.hpc.uni-bonn.de
CREATED:20230328T085824Z
DESCRIPTION:If you use Bonna\, Bender or another compute resources of Uni 
 Bonn\, or if you are planning to do so\, then this course is your most imp
 ortant entry point.\n\nThis course will be held at least twice\, over two 
 consectuive half-days in each case.\n\nTip: This course goes together well
  with our Linux introduction course\, and we have scheduled them in the sa
 me week.\n\nIn this course\, you will learn the following:\n\n- What are t
 he basic terms of high performance computing?\n- How to get access to the 
 cluster\n- How to connect to the cluster\n- Dos and Don’ts of using the 
 cluster\n- How to use environment modules and workspaces\n- How to run com
 putations on the cluster\n\nWe recommend that every cluster user attend th
 is course at least once.\n\nRegistration happens via eCampus. Simply join 
 this course like any other eCampus course.\n\nIMPORTANT: after registering
 \, you MUST JOIN ONE OF THE GROUPS\, depending on when you want to attend 
 the course.
LAST-MODIFIED:20251215T072419Z
URL:https://www.hpc.uni-bonn.de/en/events/hpc_intro_course_2026-01-14
END:VEVENT
END:VCALENDAR
