BEGIN:VCALENDAR
VERSION:2.0
PRODID:-//Plone.org//NONSGML plone.app.event//EN
X-WR-TIMEZONE:Europe/Berlin
BEGIN:VEVENT
SUMMARY:Intro to Working on HPC Clusters - 1st course (Winter 2025-26)
DTSTART;VALUE=DATE:20251105
DTEND;VALUE=DATE:20251107
DTSTAMP:20260421T170149Z
UID:c99ca2c265564ea39beeaad3df465ae7@www.hpc.uni-bonn.de
CREATED:20230328T085824Z
DESCRIPTION:If you use Bonna\, Bender or another compute resources of Uni 
 Bonn\, or if you are planning to do so\, then this course is your most imp
 ortant entry point.\n\nThis course will be held at least twice\, each time
  over two half-days.\n\nTip: This course goes together well with our Linux
  introduction course\, and we have scheduled them in the same week.\n\nIn 
 this course\, you will learn the following:\n\n- What are the basic terms 
 of high performance computing?\n- How to get access to the cluster\n- How 
 to connect to the cluster\n- Dos and Don’ts of using the cluster\n- How 
 to use environment modules and workspaces\n- How to run computations on th
 e cluster\n\nWe recommend that every cluster user attend this course at le
 ast once.\n\nRegistration happens via eCampus. Simply join this course lik
 e any other eCampus course.\n\nIMPORTANT: after registering\, you MUST JOI
 N ONE OF THE GROUPS\, depending on when you want to attend the course.
LAST-MODIFIED:20251103T151730Z
URL:https://www.hpc.uni-bonn.de/en/events/hpc_intro_course_2025-11-05
END:VEVENT
END:VCALENDAR
